BEGIN:VCALENDAR
VERSION:2.0
PRODID:-//Jimbo&#039;s Nursery - ECPv6.15.20//NONSGML v1.0//EN
CALSCALE:GREGORIAN
METHOD:PUBLISH
X-ORIGINAL-URL:https://jimbosnursery.com
X-WR-CALDESC:Events for Jimbo&#039;s Nursery
REFRESH-INTERVAL;VALUE=DURATION:PT1H
X-Robots-Tag:noindex
X-PUBLISHED-TTL:PT1H
BEGIN:VTIMEZONE
TZID:America/Chicago
BEGIN:DAYLIGHT
TZOFFSETFROM:-0600
TZOFFSETTO:-0500
TZNAME:CDT
DTSTART:20200308T080000
END:DAYLIGHT
BEGIN:STANDARD
TZOFFSETFROM:-0500
TZOFFSETTO:-0600
TZNAME:CST
DTSTART:20201101T070000
END:STANDARD
BEGIN:DAYLIGHT
TZOFFSETFROM:-0600
TZOFFSETTO:-0500
TZNAME:CDT
DTSTART:20210314T080000
END:DAYLIGHT
BEGIN:STANDARD
TZOFFSETFROM:-0500
TZOFFSETTO:-0600
TZNAME:CST
DTSTART:20211107T070000
END:STANDARD
BEGIN:DAYLIGHT
TZOFFSETFROM:-0600
TZOFFSETTO:-0500
TZNAME:CDT
DTSTART:20220313T080000
END:DAYLIGHT
BEGIN:STANDARD
TZOFFSETFROM:-0500
TZOFFSETTO:-0600
TZNAME:CST
DTSTART:20221106T070000
END:STANDARD
BEGIN:DAYLIGHT
TZOFFSETFROM:-0600
TZOFFSETTO:-0500
TZNAME:CDT
DTSTART:20230312T080000
END:DAYLIGHT
BEGIN:STANDARD
TZOFFSETFROM:-0500
TZOFFSETTO:-0600
TZNAME:CST
DTSTART:20231105T070000
END:STANDARD
BEGIN:DAYLIGHT
TZOFFSETFROM:-0600
TZOFFSETTO:-0500
TZNAME:CDT
DTSTART:20240310T080000
END:DAYLIGHT
BEGIN:STANDARD
TZOFFSETFROM:-0500
TZOFFSETTO:-0600
TZNAME:CST
DTSTART:20241103T070000
END:STANDARD
END:VTIMEZONE
BEGIN:VEVENT
DTSTART;TZID=America/Chicago:20211218T110000
DTEND;TZID=America/Chicago:20211218T120000
DTSTAMP:20260419T153038
CREATED:20211127T205659Z
LAST-MODIFIED:20211127T205659Z
UID:47198-1639825200-1639828800@jimbosnursery.com
SUMMARY:Air Plant Wreath Workshop
DESCRIPTION:Handcraft a tropical wreath with the help of our Air Plant experts! By mimicking Air Plants native habitat we use different adhering techniques to create a unique wreath perfect for the holidays.
URL:https://jimbosnursery.com/event/air-plant-wreath-workshop/
LOCATION:Jimbo’s Nursery\, 15019 8th street\, Santa Fe\, TX\, 77517\, United States
ATTACH;FMTTYPE=image/png:https://jimbosnursery.com/wp-content/uploads/2021/11/Green-Rustic-Cactus-Plant-Instagram-Post-5.png
END:VEVENT
BEGIN:VEVENT
DTSTART;TZID=America/Chicago:20230915T080000
DTEND;TZID=America/Chicago:20230915T170000
DTSTAMP:20260419T153038
CREATED:20230914T193745Z
LAST-MODIFIED:20230914T193745Z
UID:63512-1694764800-1694797200@jimbosnursery.com
SUMMARY:Test
DESCRIPTION:
URL:https://jimbosnursery.com/event/test/
LOCATION:TX
END:VEVENT
BEGIN:VEVENT
DTSTART;TZID=America/Chicago:20230923T183000
DTEND;TZID=America/Chicago:20230923T193000
DTSTAMP:20260419T153038
CREATED:20230909T012033Z
LAST-MODIFIED:20230909T012033Z
UID:63405-1695493800-1695497400@jimbosnursery.com
SUMMARY:Yoga In The Garden
DESCRIPTION:Join us for a peaceful evening in the garden\, hosted by our local yoga teacher Sherry! We will do a gentle beginners vinyasa flow for all yogi’s! Bring water & get ready to stretch! Yoga mats will be provided.
URL:https://jimbosnursery.com/event/yoga-in-the-garden/
LOCATION:Jimbo’s Nursery\, 15019 8th street\, Santa Fe\, TX\, 77517\, United States
END:VEVENT
BEGIN:VEVENT
DTSTART;TZID=America/Chicago:20231128T080000
DTEND;TZID=America/Chicago:20231128T170000
DTSTAMP:20260419T153038
CREATED:20231127T221830Z
LAST-MODIFIED:20231127T221830Z
UID:65412-1701158400-1701190800@jimbosnursery.com
SUMMARY:EVENT
DESCRIPTION:
URL:https://jimbosnursery.com/event/event/
LOCATION:Jimbo’s Nursery\, 15019 8th street\, Santa Fe\, TX\, 77517\, United States
END:VEVENT
END:VCALENDAR