BEGIN:VCALENDAR
VERSION:2.0
PRODID:-//Jimbo&#039;s Nursery - ECPv6.15.20//NONSGML v1.0//EN
CALSCALE:GREGORIAN
METHOD:PUBLISH
X-WR-CALNAME:Jimbo&#039;s Nursery
X-ORIGINAL-URL:https://jimbosnursery.com
X-WR-CALDESC:Events for Jimbo&#039;s Nursery
REFRESH-INTERVAL;VALUE=DURATION:PT1H
X-Robots-Tag:noindex
X-PUBLISHED-TTL:PT1H
BEGIN:VTIMEZONE
TZID:America/Chicago
BEGIN:DAYLIGHT
TZOFFSETFROM:-0600
TZOFFSETTO:-0500
TZNAME:CDT
DTSTART:20200308T080000
END:DAYLIGHT
BEGIN:STANDARD
TZOFFSETFROM:-0500
TZOFFSETTO:-0600
TZNAME:CST
DTSTART:20201101T070000
END:STANDARD
BEGIN:DAYLIGHT
TZOFFSETFROM:-0600
TZOFFSETTO:-0500
TZNAME:CDT
DTSTART:20210314T080000
END:DAYLIGHT
BEGIN:STANDARD
TZOFFSETFROM:-0500
TZOFFSETTO:-0600
TZNAME:CST
DTSTART:20211107T070000
END:STANDARD
BEGIN:DAYLIGHT
TZOFFSETFROM:-0600
TZOFFSETTO:-0500
TZNAME:CDT
DTSTART:20220313T080000
END:DAYLIGHT
BEGIN:STANDARD
TZOFFSETFROM:-0500
TZOFFSETTO:-0600
TZNAME:CST
DTSTART:20221106T070000
END:STANDARD
END:VTIMEZONE
BEGIN:VEVENT
DTSTART;TZID=America/Chicago:20211120T110000
DTEND;TZID=America/Chicago:20211120T113000
DTSTAMP:20260419T105427
CREATED:20211116T171910Z
LAST-MODIFIED:20211116T171910Z
UID:46611-1637406000-1637407800@jimbosnursery.com
SUMMARY:Kokedama Workshop
DESCRIPTION:The Japanese word ‘Kokedama’ translates to “moss ball” and is an ancient gardening tradition that offers a more natural alternative to a pot. The round shape of Kokedama is formed by covering the roots of the chosen plant with moss & potting soil.  \nThe craft of kokedama is a reflection of the Japanese philosophy of wabi-sabi\, the art of appreciating beauty in the world’s natural imperfection. \nIn this class we will learn how to create the kokedama mixture & how to wrap your moss ball. This is a fairly easy process & one that you can continue to do in your own garden! In this class you will receive all materials including a bromeliad. \n 
URL:https://jimbosnursery.com/event/kokedama-workshop/
LOCATION:Jimbo’s Nursery\, 15019 8th street\, Santa Fe\, TX\, 77517\, United States
ATTACH;FMTTYPE=image/jpeg:https://jimbosnursery.com/wp-content/uploads/2021/11/Facetune_16-11-2021-10-34-37-scaled.jpeg
END:VEVENT
BEGIN:VEVENT
DTSTART;VALUE=DATE:20211127
DTEND;VALUE=DATE:20211128
DTSTAMP:20260419T105427
CREATED:20211116T180659Z
LAST-MODIFIED:20211116T185826Z
UID:46682-1637971200-1638057599@jimbosnursery.com
SUMMARY:Small Business Saturday
DESCRIPTION:Save 10% off all plants at our first annual Small Business Saturday! Shopping small business is vital for your local communities health & this year we are partnering with Mugshots Coffee Bar to highlight another great small business in our community! We will be serving free coffee & unveiling our Winter Wonderland! Coffee is limited so make sure to arrive early!
URL:https://jimbosnursery.com/event/small-business-saturday/
LOCATION:TX
ATTACH;FMTTYPE=image/png:https://jimbosnursery.com/wp-content/uploads/2021/11/Green-Plant-Jar-Collections-Instagram-Post-2.png
END:VEVENT
END:VCALENDAR