BEGIN:VCALENDAR
VERSION:2.0
PRODID:-//Jimbo&#039;s Nursery - ECPv6.15.20//NONSGML v1.0//EN
CALSCALE:GREGORIAN
METHOD:PUBLISH
X-ORIGINAL-URL:https://jimbosnursery.com
X-WR-CALDESC:Events for Jimbo&#039;s Nursery
REFRESH-INTERVAL;VALUE=DURATION:PT1H
X-Robots-Tag:noindex
X-PUBLISHED-TTL:PT1H
BEGIN:VTIMEZONE
TZID:America/Chicago
BEGIN:DAYLIGHT
TZOFFSETFROM:-0600
TZOFFSETTO:-0500
TZNAME:CDT
DTSTART:20200308T080000
END:DAYLIGHT
BEGIN:STANDARD
TZOFFSETFROM:-0500
TZOFFSETTO:-0600
TZNAME:CST
DTSTART:20201101T070000
END:STANDARD
BEGIN:DAYLIGHT
TZOFFSETFROM:-0600
TZOFFSETTO:-0500
TZNAME:CDT
DTSTART:20210314T080000
END:DAYLIGHT
BEGIN:STANDARD
TZOFFSETFROM:-0500
TZOFFSETTO:-0600
TZNAME:CST
DTSTART:20211107T070000
END:STANDARD
BEGIN:DAYLIGHT
TZOFFSETFROM:-0600
TZOFFSETTO:-0500
TZNAME:CDT
DTSTART:20220313T080000
END:DAYLIGHT
BEGIN:STANDARD
TZOFFSETFROM:-0500
TZOFFSETTO:-0600
TZNAME:CST
DTSTART:20221106T070000
END:STANDARD
END:VTIMEZONE
BEGIN:VEVENT
DTSTART;TZID=America/Chicago:20211202T110000
DTEND;TZID=America/Chicago:20211202T170000
DTSTAMP:20260419T093837
CREATED:20211126T213831Z
LAST-MODIFIED:20211126T213831Z
UID:47190-1638442800-1638464400@jimbosnursery.com
SUMMARY:Bromeliad Mount Workshop
DESCRIPTION:Handcraft a tropical centerpiece with bromeliads & air plants! Our experts will show you how to mimic these lush habitats in your own home! They make great DIY’s & unique Christmas presents
URL:https://jimbosnursery.com/event/bromeliad-mount-workshop/
LOCATION:TX
ATTACH;FMTTYPE=image/png:https://jimbosnursery.com/wp-content/uploads/2021/11/Green-Rustic-Cactus-Plant-Instagram-Post-3.png
END:VEVENT
BEGIN:VEVENT
DTSTART;TZID=America/Chicago:20211203T110000
DTEND;TZID=America/Chicago:20211203T123000
DTSTAMP:20260419T093837
CREATED:20211126T204746Z
LAST-MODIFIED:20211126T204746Z
UID:47158-1638529200-1638534600@jimbosnursery.com
SUMMARY:Macrame Workshop
DESCRIPTION:Create a handcrafted macrame with our Macrame expert! Macrame is the art of knotting rope to create intricate designs & most popularly used as plant holders. Displaying your plants using a macrame holder isn’t only aesthetically pleasing but promotes air flow and room for your plant to grow! Included in this class is all supplies & pothos ivy plant! Enjoy!
URL:https://jimbosnursery.com/event/macrame-workshop/
LOCATION:Jimbo’s Nursery\, 15019 8th street\, Santa Fe\, TX\, 77517\, United States
ATTACH;FMTTYPE=image/png:https://jimbosnursery.com/wp-content/uploads/2021/11/Green-Rustic-Cactus-Plant-Instagram-Post-1.png
END:VEVENT
BEGIN:VEVENT
DTSTART;TZID=America/Chicago:20211211T110000
DTEND;TZID=America/Chicago:20211211T110000
DTSTAMP:20260419T093837
CREATED:20211126T213156Z
LAST-MODIFIED:20211126T221103Z
UID:47186-1639220400-1639220400@jimbosnursery.com
SUMMARY:Christmas Planter Kids Workshop
DESCRIPTION:Get crafty this Christmas with our Frosty or Santa Christmas Planter! Each participant will paint their pot & receive either a Kalanchoe or Pothos Ivy for their Planter. They make great Christmas gifts & are a jolly good time to create!
URL:https://jimbosnursery.com/event/christmas-planter-kids-workshop/
LOCATION:Jimbo’s Nursery\, 15019 8th street\, Santa Fe\, TX\, 77517\, United States
ATTACH;FMTTYPE=image/png:https://jimbosnursery.com/wp-content/uploads/2021/11/Green-Rustic-Cactus-Plant-Instagram-Post-4.png
END:VEVENT
BEGIN:VEVENT
DTSTART;TZID=America/Chicago:20211218T110000
DTEND;TZID=America/Chicago:20211218T120000
DTSTAMP:20260419T093837
CREATED:20211127T205659Z
LAST-MODIFIED:20211127T205659Z
UID:47198-1639825200-1639828800@jimbosnursery.com
SUMMARY:Air Plant Wreath Workshop
DESCRIPTION:Handcraft a tropical wreath with the help of our Air Plant experts! By mimicking Air Plants native habitat we use different adhering techniques to create a unique wreath perfect for the holidays.
URL:https://jimbosnursery.com/event/air-plant-wreath-workshop/
LOCATION:Jimbo’s Nursery\, 15019 8th street\, Santa Fe\, TX\, 77517\, United States
ATTACH;FMTTYPE=image/png:https://jimbosnursery.com/wp-content/uploads/2021/11/Green-Rustic-Cactus-Plant-Instagram-Post-5.png
END:VEVENT
END:VCALENDAR